Index of /checkResults/3.19/bioc-LATEST/NetPathMiner/raw-results/merida1
Name
Last modified
Size
Description
Parent Directory
-
buildsrc-out.txt
27-Jul-2024 06:40
54K
buildsrc-summary.dcf
27-Jul-2024 06:40
353
install-out.txt
27-Jul-2024 06:40
54K
install-summary.dcf
27-Jul-2024 06:40
282