Index of /checkResults/3.19/bioc-LATEST/NetPathMiner/raw-results/lconway
Name
Last modified
Size
Description
Parent Directory
-
buildsrc-out.txt
12-Jun-2024 03:42
54K
buildsrc-summary.dcf
12-Jun-2024 03:42
353
install-out.txt
12-Jun-2024 03:42
54K
install-summary.dcf
12-Jun-2024 03:42
282