Index of /checkResults/3.19/bioc-LATEST/NetPathMiner/raw-results/kjohnson3
Name
Last modified
Size
Description
Parent Directory
-
buildsrc-out.txt
12-Jun-2024 03:44
2.5K
buildsrc-summary.dcf
12-Jun-2024 03:44
353
install-out.txt
12-Jun-2024 03:44
2.3K
install-summary.dcf
12-Jun-2024 03:44
282