Index of /checkResults/3.19/bioc-LATEST/NetPathMiner/raw-results/kjohnson1
Name
Last modified
Size
Description
Parent Directory
-
buildsrc-out.txt
27-Jul-2024 06:42
2.5K
buildsrc-summary.dcf
27-Jul-2024 06:42
352
install-out.txt
27-Jul-2024 06:42
2.3K
install-summary.dcf
27-Jul-2024 06:42
281