Name | Last modified | Size | Description | |
---|---|---|---|---|
Parent Directory | - | |||
checksrc-out.txt | 10-Jul-2024 06:40 | 3.8K | ||
buildbin-out.txt | 10-Jul-2024 06:40 | 1.1K | ||
install-out.txt | 10-Jul-2024 06:40 | 1.0K | ||
buildsrc-out.txt | 10-Jul-2024 06:40 | 839 | ||
buildbin-summary.dcf | 10-Jul-2024 06:40 | 514 | ||
buildsrc-summary.dcf | 10-Jul-2024 06:40 | 453 | ||
checksrc-summary.dcf | 10-Jul-2024 06:40 | 447 | ||
install-summary.dcf | 10-Jul-2024 06:40 | 268 | ||