Name | Last modified | Size | Description | |
---|---|---|---|---|
Parent Directory | - | |||
install-summary.dcf | 22-Jun-2024 06:39 | 272 | ||
install-out.txt | 22-Jun-2024 06:39 | 13K | ||
checksrc-summary.dcf | 22-Jun-2024 06:39 | 462 | ||
checksrc-out.txt | 22-Jun-2024 06:39 | 6.0K | ||
buildsrc-summary.dcf | 22-Jun-2024 06:39 | 460 | ||
buildsrc-out.txt | 22-Jun-2024 06:39 | 791 | ||
buildbin-summary.dcf | 22-Jun-2024 06:39 | 528 | ||
buildbin-out.txt | 22-Jun-2024 06:39 | 14K | ||