Name | Last modified | Size | Description | |
---|---|---|---|---|
Parent Directory | - | |||
buildsrc-out.txt | 27-Jul-2024 06:38 | 1.0K | ||
buildsrc-summary.dcf | 27-Jul-2024 06:38 | 428 | ||
checksrc-out.txt | 27-Jul-2024 06:38 | 3.9K | ||
checksrc-summary.dcf | 27-Jul-2024 06:38 | 429 | ||
install-out.txt | 27-Jul-2024 06:38 | 1.1K | ||
install-summary.dcf | 27-Jul-2024 06:38 | 266 | ||