Name | Last modified | Size | Description | |
---|---|---|---|---|
Parent Directory | - | |||
buildbin-out.txt | 12-Jun-2024 03:43 | 1.2K | ||
buildbin-summary.dcf | 12-Jun-2024 03:43 | 551 | ||
buildsrc-out.txt | 12-Jun-2024 03:43 | 1.0K | ||
buildsrc-summary.dcf | 12-Jun-2024 03:43 | 439 | ||
checksrc-out.txt | 12-Jun-2024 03:43 | 4.0K | ||
checksrc-summary.dcf | 12-Jun-2024 03:43 | 459 | ||
install-out.txt | 12-Jun-2024 03:43 | 1.1K | ||
install-summary.dcf | 12-Jun-2024 03:43 | 276 | ||