Name | Last modified | Size | Description | |
---|---|---|---|---|
Parent Directory | - | |||
checksrc-out.txt | 17-Jul-2024 06:42 | 23K | ||
buildbin-out.txt | 17-Jul-2024 06:42 | 5.0K | ||
install-out.txt | 17-Jul-2024 06:42 | 4.9K | ||
buildsrc-out.txt | 17-Jul-2024 06:42 | 811 | ||
buildbin-summary.dcf | 17-Jul-2024 06:42 | 521 | ||
checksrc-summary.dcf | 17-Jul-2024 06:42 | 444 | ||
buildsrc-summary.dcf | 17-Jul-2024 06:42 | 422 | ||
install-summary.dcf | 17-Jul-2024 06:42 | 266 | ||