Name | Last modified | Size | Description | |
---|---|---|---|---|
Parent Directory | - | |||
buildbin-out.txt | 27-Jul-2024 06:39 | 121K | ||
buildbin-summary.dcf | 27-Jul-2024 06:39 | 528 | ||
buildsrc-out.txt | 27-Jul-2024 06:39 | 941 | ||
buildsrc-summary.dcf | 27-Jul-2024 06:39 | 461 | ||
checksrc-out.txt | 27-Jul-2024 06:39 | 10K | ||
checksrc-summary.dcf | 27-Jul-2024 06:39 | 461 | ||
install-out.txt | 27-Jul-2024 06:39 | 121K | ||
install-summary.dcf | 27-Jul-2024 06:39 | 272 | ||