Name | Last modified | Size | Description | |
---|---|---|---|---|
Parent Directory | - | |||
buildbin-out.txt | 08-Jun-2024 09:26 | 7.9K | ||
buildbin-summary.dcf | 08-Jun-2024 09:26 | 542 | ||
buildsrc-out.txt | 12-Jun-2024 03:42 | 1.3K | ||
buildsrc-summary.dcf | 12-Jun-2024 03:42 | 347 | ||
checksrc-out.txt | 08-Jun-2024 09:26 | 10K | ||
checksrc-summary.dcf | 08-Jun-2024 09:26 | 458 | ||
install-out.txt | 12-Jun-2024 03:42 | 5.6K | ||
install-summary.dcf | 12-Jun-2024 03:42 | 273 | ||