Name | Last modified | Size | Description | |
---|---|---|---|---|
Parent Directory | - | |||
buildbin-out.txt | 24-Jul-2024 22:07 | 7.7K | ||
buildbin-summary.dcf | 24-Jul-2024 22:07 | 542 | ||
buildsrc-out.txt | 27-Jul-2024 06:41 | 1.2K | ||
buildsrc-summary.dcf | 27-Jul-2024 06:41 | 347 | ||
checksrc-out.txt | 24-Jul-2024 22:07 | 10K | ||
checksrc-summary.dcf | 24-Jul-2024 22:07 | 458 | ||
install-out.txt | 27-Jul-2024 06:41 | 5.6K | ||
install-summary.dcf | 27-Jul-2024 06:41 | 273 | ||