Name | Last modified | Size | Description | |
---|---|---|---|---|
Parent Directory | - | |||
kunpeng2/ | 10-May-2024 00:40 | - | ||
lconway/ | 12-Jun-2024 03:42 | - | ||
kjohnson3/ | 12-Jun-2024 03:43 | - | ||
palomino3/ | 29-Jun-2024 06:41 | - | ||
info.dcf | 27-Jul-2024 06:36 | 275 | ||
nebbiolo1/ | 27-Jul-2024 06:38 | - | ||
palomino7/ | 27-Jul-2024 06:39 | - | ||
merida1/ | 27-Jul-2024 06:40 | - | ||
kjohnson1/ | 27-Jul-2024 06:41 | - | ||