Name | Last modified | Size | Description | |
---|---|---|---|---|
Parent Directory | - | |||
install-out.txt | 17-Jul-2024 06:39 | 971 | ||
install-summary.dcf | 17-Jul-2024 06:39 | 267 | ||
buildsrc-out.txt | 17-Jul-2024 06:39 | 898 | ||
buildsrc-summary.dcf | 17-Jul-2024 06:39 | 451 | ||
checksrc-summary.dcf | 17-Jul-2024 06:39 | 445 | ||
checksrc-out.txt | 17-Jul-2024 06:39 | 3.4K | ||
buildbin-out.txt | 17-Jul-2024 06:39 | 1.1K | ||
buildbin-summary.dcf | 17-Jul-2024 06:39 | 512 | ||