Index of /checkResults/3.18/workflows-LATEST/spicyWorkflow/raw-results/nebbiolo2
Name
Last modified
Size
Description
Parent Directory
-
buildsrc-out.txt
17-Apr-2024 03:00
1.0K
buildsrc-summary.dcf
17-Apr-2024 03:00
345
install-out.txt
17-Apr-2024 03:00
964
install-summary.dcf
17-Apr-2024 03:00
269