Index of /checkResults/3.18/workflows-LATEST/spicyWorkflow/raw-results/merida1
Name
Last modified
Size
Description
Parent Directory
-
buildsrc-out.txt
17-Apr-2024 03:00
1.1K
buildsrc-summary.dcf
17-Apr-2024 03:00
355
install-out.txt
17-Apr-2024 03:00
1.0K
install-summary.dcf
17-Apr-2024 03:00
280