Index of /checkResults/3.18/workflows-LATEST/recountWorkflow/raw-results/palomino4
Name
Last modified
Size
Description
Parent Directory
-
install-summary.dcf
17-Apr-2024 03:00
284
buildsrc-summary.dcf
17-Apr-2024 03:00
485
buildsrc-out.txt
17-Apr-2024 03:00
879
install-out.txt
17-Apr-2024 03:00
1.0K