Index of /checkResults/3.18/workflows-LATEST/liftOver/raw-results/merida1
Name
Last modified
Size
Description
Parent Directory
-
buildsrc-out.txt
17-Apr-2024 03:00
854
buildsrc-summary.dcf
17-Apr-2024 03:00
431
install-out.txt
17-Apr-2024 03:00
1.0K
install-summary.dcf
17-Apr-2024 03:00
272