Index of /checkResults/3.18/workflows-LATEST/generegulation/raw-results/palomino4
Name
Last modified
Size
Description
Parent Directory
-
install-summary.dcf
17-Apr-2024 03:00
282
install-out.txt
17-Apr-2024 03:00
1.1K
buildsrc-summary.dcf
17-Apr-2024 03:00
480
buildsrc-out.txt
17-Apr-2024 03:00
946