Index of /checkResults/3.18/workflows-LATEST/generegulation/raw-results/nebbiolo2
Name
Last modified
Size
Description
Parent Directory
-
buildsrc-out.txt
17-Apr-2024 03:00
908
buildsrc-summary.dcf
17-Apr-2024 03:00
439
install-out.txt
17-Apr-2024 03:00
1.1K
install-summary.dcf
17-Apr-2024 03:00
273