Index of /checkResults/3.18/workflows-LATEST/generegulation/raw-results/merida1
Name
Last modified
Size
Description
Parent Directory
-
install-summary.dcf
17-Apr-2024 03:00
284
install-out.txt
17-Apr-2024 03:00
1.1K
buildsrc-summary.dcf
17-Apr-2024 03:00
449
buildsrc-out.txt
17-Apr-2024 03:00
918