Index of /checkResults/3.18/workflows-LATEST/generegulation/raw-results/lconway
Name
Last modified
Size
Description
Parent Directory
-
install-summary.dcf
02-Mar-2024 04:00
283
install-out.txt
02-Mar-2024 04:00
1.1K
buildsrc-summary.dcf
02-Mar-2024 04:00
448
buildsrc-out.txt
02-Mar-2024 04:00
918