Index of /checkResults/3.18/workflows-LATEST/fluentGenomics/raw-results/palomino4
Name
Last modified
Size
Description
Parent Directory
-
buildsrc-out.txt
17-Apr-2024 03:00
874
buildsrc-summary.dcf
17-Apr-2024 03:00
480
install-out.txt
17-Apr-2024 03:00
1.0K
install-summary.dcf
17-Apr-2024 03:00
282