Index of /checkResults/3.18/workflows-LATEST/cytofWorkflow/raw-results/palomino4
Name
Last modified
Size
Description
Parent Directory
-
buildsrc-out.txt
17-Apr-2024 03:00
906
buildsrc-summary.dcf
17-Apr-2024 03:00
477
install-out.txt
17-Apr-2024 03:00
1.2K
install-summary.dcf
17-Apr-2024 03:00
280