Index of /checkResults/3.18/workflows-LATEST/cytofWorkflow/raw-results/nebbiolo2
Name
Last modified
Size
Description
Parent Directory
-
install-out.txt
17-Apr-2024 03:00
1.2K
buildsrc-out.txt
17-Apr-2024 03:00
870
buildsrc-summary.dcf
17-Apr-2024 03:00
436
install-summary.dcf
17-Apr-2024 03:00
271