Index of /checkResults/3.18/workflows-LATEST/cytofWorkflow/raw-results/merida1
Name
Last modified
Size
Description
Parent Directory
-
buildsrc-out.txt
17-Apr-2024 03:00
880
buildsrc-summary.dcf
17-Apr-2024 03:00
446
install-out.txt
17-Apr-2024 03:00
1.2K
install-summary.dcf
17-Apr-2024 03:00
282