Index of /checkResults/3.18/workflows-LATEST/cytofWorkflow/raw-results/lconway
Name
Last modified
Size
Description
Parent Directory
-
buildsrc-out.txt
02-Mar-2024 04:00
880
buildsrc-summary.dcf
02-Mar-2024 04:00
446
install-out.txt
02-Mar-2024 04:00
1.2K
install-summary.dcf
02-Mar-2024 04:00
281