Index of /checkResults/3.18/workflows-LATEST/chipseqDB/raw-results/merida1
Name
Last modified
Size
Description
Parent Directory
-
buildsrc-summary.dcf
17-Apr-2024 03:00
433
buildsrc-out.txt
17-Apr-2024 03:00
898
install-summary.dcf
17-Apr-2024 03:00
273
install-out.txt
17-Apr-2024 03:00
1.0K