Index of /checkResults/3.18/workflows-LATEST/chipseqDB/raw-results/lconway
Name
Last modified
Size
Description
Parent Directory
-
install-summary.dcf
02-Mar-2024 04:00
272
install-out.txt
02-Mar-2024 04:00
1.0K
buildsrc-summary.dcf
02-Mar-2024 04:00
432
buildsrc-out.txt
02-Mar-2024 04:00
898