Index of /checkResults/3.18/workflows-LATEST/arrays/raw-results/palomino4
Name
Last modified
Size
Description
Parent Directory
-
install-summary.dcf
17-Apr-2024 03:00
265
install-out.txt
17-Apr-2024 03:00
941
buildsrc-summary.dcf
17-Apr-2024 03:00
447
buildsrc-out.txt
17-Apr-2024 03:00
834