Index of /checkResults/3.18/workflows-LATEST/arrays/raw-results/lconway
Name
Last modified
Size
Description
Parent Directory
-
install-summary.dcf
02-Mar-2024 04:00
266
buildsrc-summary.dcf
02-Mar-2024 04:00
423
buildsrc-out.txt
02-Mar-2024 04:00
812
install-out.txt
02-Mar-2024 04:00
971