Index of /checkResults/3.18/workflows-LATEST/TCGAWorkflow/raw-results/palomino4
Name
Last modified
Size
Description
Parent Directory
-
install-summary.dcf
17-Apr-2024 03:00
278
buildsrc-out.txt
17-Apr-2024 03:00
864
buildsrc-summary.dcf
17-Apr-2024 03:00
474
install-out.txt
17-Apr-2024 03:00
2.6K