Index of /checkResults/3.18/workflows-LATEST/TCGAWorkflow/raw-results/nebbiolo2
Name
Last modified
Size
Description
Parent Directory
-
install-out.txt
17-Apr-2024 03:00
2.6K
buildsrc-out.txt
17-Apr-2024 03:00
826
buildsrc-summary.dcf
17-Apr-2024 03:00
434
install-summary.dcf
17-Apr-2024 03:00
269