Index of /checkResults/3.18/workflows-LATEST/TCGAWorkflow/raw-results/merida1
Name
Last modified
Size
Description
Parent Directory
-
buildsrc-out.txt
17-Apr-2024 03:00
836
buildsrc-summary.dcf
17-Apr-2024 03:00
444
install-out.txt
17-Apr-2024 03:00
2.6K
install-summary.dcf
17-Apr-2024 03:00
280