Index of /checkResults/3.18/workflows-LATEST/RnaSeqGeneEdgeRQL/raw-results/nebbiolo2
Name
Last modified
Size
Description
Parent Directory
-
install-summary.dcf
17-Apr-2024 03:00
279
buildsrc-summary.dcf
17-Apr-2024 03:00
448
buildsrc-out.txt
17-Apr-2024 03:00
880
install-out.txt
17-Apr-2024 03:00
1.0K