Index of /checkResults/3.18/workflows-LATEST/RnaSeqGeneEdgeRQL/raw-results/lconway
Name
Last modified
Size
Description
Parent Directory
-
install-summary.dcf
02-Mar-2024 04:00
288
buildsrc-summary.dcf
02-Mar-2024 04:00
457
buildsrc-out.txt
02-Mar-2024 04:00
890
install-out.txt
02-Mar-2024 04:00
1.0K