Index of /checkResults/3.18/workflows-LATEST/RnaSeqGeneEdgeRQL/raw-results
Name
Last modified
Size
Description
Parent Directory
-
info.dcf
17-Apr-2024 03:00
289
lconway/
02-Mar-2024 04:00
-
merida1/
17-Apr-2024 03:00
-
nebbiolo2/
17-Apr-2024 03:00
-
palomino4/
17-Apr-2024 03:00
-