Index of /checkResults/3.18/workflows-LATEST/RNAseq123/raw-results/nebbiolo2
Name
Last modified
Size
Description
Parent Directory
-
buildsrc-out.txt
17-Apr-2024 03:00
888
buildsrc-summary.dcf
17-Apr-2024 03:00
424
install-out.txt
17-Apr-2024 03:00
948
install-summary.dcf
17-Apr-2024 03:00
263