Index of /checkResults/3.18/workflows-LATEST/ExpHunterSuite/raw-results/nebbiolo2
Name
Last modified
Size
Description
Parent Directory
-
install-summary.dcf
17-Apr-2024 03:00
273
install-out.txt
17-Apr-2024 03:00
1.0K
buildsrc-summary.dcf
17-Apr-2024 03:00
439
buildsrc-out.txt
17-Apr-2024 03:00
834