Index of /checkResults/3.18/workflows-LATEST/ExpHunterSuite/raw-results/merida1
Name
Last modified
Size
Description
Parent Directory
-
buildsrc-out.txt
17-Apr-2024 03:00
844
buildsrc-summary.dcf
17-Apr-2024 03:00
449
install-out.txt
17-Apr-2024 03:00
1.0K
install-summary.dcf
17-Apr-2024 03:00
284