Index of /checkResults/3.18/workflows-LATEST/ExpHunterSuite/raw-results/lconway
Name
Last modified
Size
Description
Parent Directory
-
install-out.txt
02-Mar-2024 04:00
1.0K
buildsrc-out.txt
02-Mar-2024 04:00
844
buildsrc-summary.dcf
02-Mar-2024 04:00
449
install-summary.dcf
02-Mar-2024 04:00
283