Index of /checkResults/3.18/workflows-LATEST/BiocMetaWorkflow/raw-results/palomino4
Name
Last modified
Size
Description
Parent Directory
-
install-summary.dcf
17-Apr-2024 03:00
285
install-out.txt
17-Apr-2024 03:00
972
buildsrc-summary.dcf
17-Apr-2024 03:00
488
buildsrc-out.txt
17-Apr-2024 03:00
919