Index of /checkResults/3.18/workflows-LATEST/BiocMetaWorkflow/raw-results/nebbiolo2
Name
Last modified
Size
Description
Parent Directory
-
buildsrc-out.txt
17-Apr-2024 03:00
876
buildsrc-summary.dcf
17-Apr-2024 03:00
443
install-out.txt
17-Apr-2024 03:00
968
install-summary.dcf
17-Apr-2024 03:00
276