Index of /checkResults/3.18/workflows-LATEST/BiocMetaWorkflow/raw-results/merida1
Name
Last modified
Size
Description
Parent Directory
-
buildsrc-out.txt
17-Apr-2024 03:00
886
buildsrc-summary.dcf
17-Apr-2024 03:00
454
install-out.txt
17-Apr-2024 03:00
1.0K
install-summary.dcf
17-Apr-2024 03:00
287