Name | Last modified | Size | Description | |
---|---|---|---|---|
Parent Directory | - | |||
install-out.txt | 17-Apr-2024 03:51 | 917 | ||
install-summary.dcf | 17-Apr-2024 03:51 | 268 | ||
buildsrc-out.txt | 17-Apr-2024 03:51 | 889 | ||
buildsrc-summary.dcf | 17-Apr-2024 03:51 | 431 | ||
checksrc-out.txt | 17-Apr-2024 03:51 | 6.3K | ||
checksrc-summary.dcf | 17-Apr-2024 03:51 | 439 | ||