Name | Last modified | Size | Description | |
---|---|---|---|---|
Parent Directory | - | |||
install-out.txt | 17-Apr-2024 03:51 | 960 | ||
install-summary.dcf | 17-Apr-2024 03:51 | 268 | ||
buildsrc-out.txt | 17-Apr-2024 03:51 | 826 | ||
buildsrc-summary.dcf | 17-Apr-2024 03:51 | 433 | ||
checksrc-out.txt | 17-Apr-2024 03:51 | 2.6K | ||
checksrc-summary.dcf | 17-Apr-2024 03:51 | 433 | ||