Index of /checkResults/3.18/data-experiment-LATEST/restfulSEData/raw-results
Name
Last modified
Size
Description
Parent Directory
-
info.dcf
29-Mar-2024 03:52
309
nebbiolo2/
29-Mar-2024 03:52
-