Name | Last modified | Size | Description | |
---|---|---|---|---|
Parent Directory | - | |||
buildsrc-out.txt | 17-Apr-2024 03:51 | 793 | ||
buildsrc-summary.dcf | 17-Apr-2024 03:51 | 414 | ||
checksrc-out.txt | 17-Apr-2024 03:51 | 4.8K | ||
checksrc-summary.dcf | 17-Apr-2024 03:51 | 416 | ||
install-out.txt | 17-Apr-2024 03:51 | 957 | ||
install-summary.dcf | 17-Apr-2024 03:51 | 257 | ||