Name | Last modified | Size | Description | |
---|---|---|---|---|
Parent Directory | - | |||
install-summary.dcf | 17-Apr-2024 03:51 | 256 | ||
checksrc-summary.dcf | 17-Apr-2024 03:51 | 409 | ||
buildsrc-summary.dcf | 17-Apr-2024 03:51 | 414 | ||
buildsrc-out.txt | 17-Apr-2024 03:51 | 802 | ||
install-out.txt | 17-Apr-2024 03:51 | 934 | ||
checksrc-out.txt | 17-Apr-2024 03:51 | 2.9K | ||