Index of /checkResults/3.18/data-experiment-LATEST/mouse4302barcodevecs/raw-results

[ICO]NameLast modifiedSizeDescription

[DIR]Parent Directory  -  
[   ]info.dcf29-Mar-2024 03:52 299  
[DIR]nebbiolo2/29-Mar-2024 03:52 -